BEGIN:VCALENDAR
VERSION:2.0
PRODID:-//Greater Lowell Community Foundation - ECPv6.15.16//NONSGML v1.0//EN
CALSCALE:GREGORIAN
METHOD:PUBLISH
X-ORIGINAL-URL:https://www.glcfoundation.org
X-WR-CALDESC:Events for Greater Lowell Community Foundation
REFRESH-INTERVAL;VALUE=DURATION:PT1H
X-Robots-Tag:noindex
X-PUBLISHED-TTL:PT1H
BEGIN:VTIMEZONE
TZID:America/New_York
BEGIN:DAYLIGHT
TZOFFSETFROM:-0500
TZOFFSETTO:-0400
TZNAME:EDT
DTSTART:20240310T070000
END:DAYLIGHT
BEGIN:STANDARD
TZOFFSETFROM:-0400
TZOFFSETTO:-0500
TZNAME:EST
DTSTART:20241103T060000
END:STANDARD
BEGIN:DAYLIGHT
TZOFFSETFROM:-0500
TZOFFSETTO:-0400
TZNAME:EDT
DTSTART:20250309T070000
END:DAYLIGHT
BEGIN:STANDARD
TZOFFSETFROM:-0400
TZOFFSETTO:-0500
TZNAME:EST
DTSTART:20251102T060000
END:STANDARD
BEGIN:DAYLIGHT
TZOFFSETFROM:-0500
TZOFFSETTO:-0400
TZNAME:EDT
DTSTART:20260308T070000
END:DAYLIGHT
BEGIN:STANDARD
TZOFFSETFROM:-0400
TZOFFSETTO:-0500
TZNAME:EST
DTSTART:20261101T060000
END:STANDARD
END:VTIMEZONE
BEGIN:VEVENT
DTSTART;TZID=America/New_York:20251022T170000
DTEND;TZID=America/New_York:20251022T190000
DTSTAMP:20260424T054819
CREATED:20250808T160916Z
LAST-MODIFIED:20250916T165315Z
UID:4208-1761152400-1761159600@www.glcfoundation.org
SUMMARY:Celebrate Giving 2025
DESCRIPTION:Celebrate Giving 2025:\nFocus On Social Entrepreneurship\nFeaturing a Conversation with Rajia Abdelaziz\nCEO & Co-founder of invisaWear\nRajia Abdelaziz started one of the fastest-growing companies in America when she was just 21 years old. Today\, she is an award-winning entrepreneur revolutionizing the personal safety industry. \nRajia is the Founder & CEO of invisaWear\, a company that creates safety devices disguised as jewelry and accessories. With just two clicks\, users can instantly alert friends\, family\, and-optionally-police. \nHer work has earned national acclaim. She’s been featured on the cover of Forbes 30 Under 30 in the Social Impact category\, named one of the most successful entrepreneurs in Massachusetts by the Boston Globe\, and recognized on both the Inc. Female Founders 250 list and Inc Fastest Growing Companies list. \nRajia raised $3 million to develop invisaWear’s technology\, scaled the company to over $20 million in sales\, and secured powerhouse partnerships with ADT and TELUS Communications\, two of the most respected names in the security industry. \nWith over 3 million social media followers\, Rajia isn’t just building a company — she’s building a global movement to make safety accessible to all. \nIn 2023\, she launched Smart Alert Holdings\, a company focused on acquiring businesses that share the same mission of creating a safer world. Their first acquisition was Flare Safety\, invisaWear’s only competitor. \nHer companies have been featured on Good Morning America\, ABC News\, CBS\, WBZ\, TODAY\, and more. They’ve also earned prestigious accolades\, including TIME Magazine’s Best Inventions\, Fast Company’s Innovation by Design Award\, and the New England Innovation Award. \nAs a minority female CEO\, Rajia is passionate about breaking barriers for women and underrepresented groups in tech. Her journey of overcoming obstacles fuels her mission to inspire the next generation of entrepreneurs — proving that no matter your background or the doubts you face\, success is possible. Rajia remains deeply committed to mentorship through UMass Lowell’s Entrepreneurship Program\, helping others turn bold ideas into reality. \n______________________________________________________________ \nAlso\, featuring: \n\n2025 Business Philanthropy Partner Award: Votze Butler Associates Inc.\nThe Business Philanthropy Partner Award recognizes a business that has demonstrated exceptional commitment to improving the community through philanthropic partnerships and civic engagement.\n\n\n2025 Steven Joncas Community Connector Award: Brian Chapman\nNamed in honor of Steven Joncas\, this award celebrates an individual who has made significant contributions to connecting and strengthening community networks throughout the Greater Lowell area.\n2025 Bankers’ Volunteer Award for Lifetime Achievement: Vannak Theng-Rush\nThis prestigious lifetime achievement award honors an individual who has demonstrated sustained volunteer leadership and commitment to community service over many years.\n2025 GLCF Newell Flather Legacy Fund Grant Award: Cambodian Mutual Assistance Association (CMAA)\nThe Newell Flather Legacy Fund was established by the Theodore Edson Parker Foundation in 2022 at GLCF to support nonprofit projects focused on the arts\, immigrant\, and refugee communities\, and/or advancing equity and inclusion in the city of Lowell.\n\n______________________________________________________________ \nTo sponsor: click here\nTo purchase tickets: here
URL:https://www.glcfoundation.org/event/celebrate-giving-2025/
LOCATION:UTEC\, 35 Warren St.\, Lowell\, MA\, 01852\, United States
END:VEVENT
END:VCALENDAR