BEGIN:VCALENDAR
VERSION:2.0
PRODID:-//Greater Lowell Community Foundation - ECPv6.15.16//NONSGML v1.0//EN
CALSCALE:GREGORIAN
METHOD:PUBLISH
X-ORIGINAL-URL:https://www.glcfoundation.org
X-WR-CALDESC:Events for Greater Lowell Community Foundation
REFRESH-INTERVAL;VALUE=DURATION:PT1H
X-Robots-Tag:noindex
X-PUBLISHED-TTL:PT1H
BEGIN:VTIMEZONE
TZID:America/New_York
BEGIN:DAYLIGHT
TZOFFSETFROM:-0500
TZOFFSETTO:-0400
TZNAME:EDT
DTSTART:20250309T070000
END:DAYLIGHT
BEGIN:STANDARD
TZOFFSETFROM:-0400
TZOFFSETTO:-0500
TZNAME:EST
DTSTART:20251102T060000
END:STANDARD
BEGIN:DAYLIGHT
TZOFFSETFROM:-0500
TZOFFSETTO:-0400
TZNAME:EDT
DTSTART:20260308T070000
END:DAYLIGHT
BEGIN:STANDARD
TZOFFSETFROM:-0400
TZOFFSETTO:-0500
TZNAME:EST
DTSTART:20261101T060000
END:STANDARD
BEGIN:DAYLIGHT
TZOFFSETFROM:-0500
TZOFFSETTO:-0400
TZNAME:EDT
DTSTART:20270314T070000
END:DAYLIGHT
BEGIN:STANDARD
TZOFFSETFROM:-0400
TZOFFSETTO:-0500
TZNAME:EST
DTSTART:20271107T060000
END:STANDARD
END:VTIMEZONE
BEGIN:VEVENT
DTSTART;TZID=America/New_York:20260609T170000
DTEND;TZID=America/New_York:20260609T193000
DTSTAMP:20260423T151823
CREATED:20260223T215215Z
LAST-MODIFIED:20260224T135007Z
UID:4931-1781024400-1781033400@www.glcfoundation.org
SUMMARY:Annual Meeting 2026
DESCRIPTION:The Greater Lowell Community Foundation (GLCF) will host its Annual Meeting on Tuesday\, June 9\, at UMass Lowell Coburn Hall. The event is free and open to the public\, but registration is required. \n  \nThe evening will begin with a reception and networking at 5 p.m.\, followed by the program at 6 p.m. The program will feature two nonprofit leaders whose organizations have received grants through GLCF’s 2025 grantmaking cycle: Lisa Ansara\, Executive Director of the Lowell Youth Leadership Program\, and Alexandra DePalo\, Executive Director of Open Table.
URL:https://www.glcfoundation.org/event/am26/
LOCATION:UMass Lowell Coburn Hall\, 850 Broadway St\, Lowell\, MA\, Lowell\, MA\, 01854
END:VEVENT
END:VCALENDAR