BEGIN:VCALENDAR
VERSION:2.0
PRODID:-//Greater Lowell Community Foundation - ECPv6.15.16//NONSGML v1.0//EN
CALSCALE:GREGORIAN
METHOD:PUBLISH
X-WR-CALNAME:Greater Lowell Community Foundation
X-ORIGINAL-URL:https://www.glcfoundation.org
X-WR-CALDESC:Events for Greater Lowell Community Foundation
REFRESH-INTERVAL;VALUE=DURATION:PT1H
X-Robots-Tag:noindex
X-PUBLISHED-TTL:PT1H
BEGIN:VTIMEZONE
TZID:America/New_York
BEGIN:DAYLIGHT
TZOFFSETFROM:-0500
TZOFFSETTO:-0400
TZNAME:EDT
DTSTART:20220313T070000
END:DAYLIGHT
BEGIN:STANDARD
TZOFFSETFROM:-0400
TZOFFSETTO:-0500
TZNAME:EST
DTSTART:20221106T060000
END:STANDARD
BEGIN:DAYLIGHT
TZOFFSETFROM:-0500
TZOFFSETTO:-0400
TZNAME:EDT
DTSTART:20230312T070000
END:DAYLIGHT
BEGIN:STANDARD
TZOFFSETFROM:-0400
TZOFFSETTO:-0500
TZNAME:EST
DTSTART:20231105T060000
END:STANDARD
BEGIN:DAYLIGHT
TZOFFSETFROM:-0500
TZOFFSETTO:-0400
TZNAME:EDT
DTSTART:20240310T070000
END:DAYLIGHT
BEGIN:STANDARD
TZOFFSETFROM:-0400
TZOFFSETTO:-0500
TZNAME:EST
DTSTART:20241103T060000
END:STANDARD
END:VTIMEZONE
BEGIN:VEVENT
DTSTART;TZID=America/New_York:20230607T170000
DTEND;TZID=America/New_York:20230607T193000
DTSTAMP:20260424T031558
CREATED:20230227T184155Z
LAST-MODIFIED:20230227T184156Z
UID:2997-1686157200-1686166200@www.glcfoundation.org
SUMMARY:Annual Meeting 2023: Equity and the Rule of Law - A Conversation with  Attorney General  Andrea Joy Campbell
DESCRIPTION:About Attorney General Andrea Joy Campbell \nOn January 18\, 2023\, Andrea Joy Campbell was sworn in to be the 45th Attorney General of the Commonwealth of Massachusetts\, pledging to build economic prosperity and stability for all residents\, prioritize the mental health and well-being of children\, stop cycles of incarceration and violence and ensure the people across the state have access to the AG’s Office regardless of their zip code\, language or ability. \nAndrea served as legal counsel to Governor Deval Patrick\, working to improve our education and transportation systems and move forward an agenda of equity across the state. \nIn 2015\, Andrea successfully ran for the Boston City Council becoming the first woman to represent District 4 on the Council. Her first piece of legislation was the Community Preservation Act\, which still generates over $20 million annually for new affordable housing\, historical preservation\, and parks and open space. In 2018\, she was unanimously elected City Council President – the first Black woman to hold the title. \n(To read Attorney General Andrea Joy Campbell’s full bio\, visit: https://glcfoundation.info/3EJLO8G) \n__________________________________________________________ \nTo Register: https://glcf.fcsuite.com/erp/donate/list/event?event_date_id=2453 \nTo Sponsor the work of GLCF (including this event)\, visit: https://www.glcfoundation.org/for-donors/ways-to-give/sponsor-the-foundation/ \n  \nPDF of Flyer \n 
URL:https://www.glcfoundation.org/event/annual-meeting-2023-equity-and-the-rule-of-law-a-conversation-with-attorney-general-andrea-joy-campbell/
LOCATION:Umass Lowell Inn and Conference Center\, 50 Warren Street\, Lowell\, MA\, 01852\, United States
ORGANIZER;CN="GLCF":MAILTO:info@glcfoundation.org
END:VEVENT
END:VCALENDAR